BEGIN:VCALENDAR
VERSION:2.0
PRODID:-//ChamberMaster//Event Calendar 2.0//EN
METHOD:PUBLISH
X-PUBLISHED-TTL:P3D
REFRESH-INTERVAL:P3D
CALSCALE:GREGORIAN
BEGIN:VEVENT
DTSTART:20150507T220000Z
DTEND:20150508T010000Z
X-MICROSOFT-CDO-ALLDAYEVENT:FALSE
SUMMARY:Mentor Role Model Program Annual Fundraising Gala
DESCRIPTION:An evening with a catered dinner by South Boston's very own Four Oaks restaurant. The opportunity to listen to some easy jazz music while mingling with friends and bidding on many of the silent auction items. Add some laughter\, a chilled glass of wine or a cold beer ..from our cash bar and this will be an evening to remember. All for a wonderful cause- to help support the mission of the Mentor Role Model Program.
X-ALT-DESC;FMTTYPE=text/html:An evening with a catered dinner by South Boston&#39\;s very own Four Oaks restaurant. The opportunity to listen to some easy jazz music while mingling with friends and bidding on many of the silent auction items. Add some laughter\, a chilled glass of wine or a cold beer ..from our cash bar and this will be an evening to remember. All for a wonderful cause- to help support the mission of the Mentor Role Model Program.
LOCATION:The Prizery 700 Bruce Street South Boston\, VA 24592
UID:e.845.2493
SEQUENCE:3
DTSTAMP:20260426T015911Z
URL:https://business.halifaxchamber.net/events/details/mentor-role-model-program-annual-fundraising-gala-05-07-2015-2493
END:VEVENT

END:VCALENDAR
