BEGIN:VCALENDAR
VERSION:2.0
PRODID:-//ChamberMaster//Event Calendar 2.0//EN
METHOD:PUBLISH
X-PUBLISHED-TTL:P3D
REFRESH-INTERVAL:P3D
CALSCALE:GREGORIAN
BEGIN:VEVENT
DTSTART:20170825T120000Z
DTEND:20170828T030000Z
X-MICROSOFT-CDO-ALLDAYEVENT:FALSE
SUMMARY:Michelin GT Challenge IMSA WeatherTech SportsCar Championship
DESCRIPTION:VIR is excited to be the only all GT event on the IMSA WeatherTech SportsCar Championship schedule. This unique positioning allows spectators to identify with cars they see every day\, competing on one of Car and Driver's top six road courses\, in America's premier sports car championship.\n\nBe part of history as another chapter is written with the first Michelin GT Challenge GTLM/GTD race. Action kicks off Aug 25 and runs through Aug 27. Experience testing\, qualifying\, car corrals\, Made on Michelin hot laps\, driver autograph sessions\, team chats\, tech talks\, VIR kart track\, Oak Tree Tavern\, spa and more!\n\n\n Along with the Michelin GT Challenge\, enjoy the Biscuitville Grand Prix (Continental Tire SportsCar Challenge) and Porsche GT3 Cup Challenge.
X-ALT-DESC;FMTTYPE=text/html:<div>\n<div>VIR is excited to be the only all GT event on the IMSA WeatherTech SportsCar Championship schedule. This unique positioning allows spectators to identify with cars they see every day\, competing on one of Car and Driver&rsquo\;s top six road courses\, in America&rsquo\;s premier sports car championship.</div>\n\n<p>Be part of history as another chapter is written with the first Michelin GT Challenge GTLM/GTD race. Action kicks off&nbsp\;<span style="font-size:20px">Aug 25</span>&nbsp\;and runs through&nbsp\;<span style="font-size:20px">Aug 27</span>. Experience testing\, qualifying\, car corrals\, Made on Michelin hot laps\, driver autograph sessions\, team chats\, tech talks\, VIR kart track\, Oak Tree Tavern\, spa and more!</p>\n\n<div>\n<p>&nbsp\;Along with the Michelin GT Challenge\, enjoy the Biscuitville Grand Prix (Continental Tire SportsCar Challenge) and Porsche GT3 Cup Challenge.</p>\n\n<div>&nbsp\;</div>\n</div>\n</div>\n\n<div>&nbsp\;</div>\n
LOCATION:VIRginia International Raceway 1245 Pine Tree Road Alton\, VA 24520
UID:e.845.5765
SEQUENCE:3
DTSTAMP:20260422T180402Z
URL:https://business.halifaxchamber.net/events/details/michelin-gt-challenge-imsa-weathertech-sportscar-championship-5765
END:VEVENT

END:VCALENDAR
