BEGIN:VCALENDAR
VERSION:2.0
PRODID:-//ChamberMaster//Event Calendar 2.0//EN
METHOD:PUBLISH
X-PUBLISHED-TTL:P3D
REFRESH-INTERVAL:P3D
CALSCALE:GREGORIAN
BEGIN:VEVENT
DTSTART;VALUE=DATE:20180817
DTEND;VALUE=DATE:20180820
TRANSP:TRANSPARENT
X-MICROSOFT-CDO-ALLDAYEVENT:TRUE
SUMMARY:Michelin GT Challenge IMSA WeatherTech SportsCar Championship
DESCRIPTION:August is once again an exciting month at VIR\, as the fan-favorite IMSA WeatherTech SportsCar Championship makes its only mid-Atlantic stop in the premier North American sports car racing series at the track Aug. 17-19. In addition to the headlining Michelin GT Challenge race\, the action-packed weekend will feature several support series including the Biscuitville Grand Prix for the Continental Tire SportsCar Challenge\n\n\n\nAll current military will be admitted free and veterans will receive a 50% discount to ALL VIR events. Just present a valid Government issued military ID to registration when you arrive. This offer not valid during private track rentals.\n\nChildren 16 and under are always free with a paying adult and there is no cost for parking.\n\nWhile at the track\, catch all the racing action on 89.9 FM
X-ALT-DESC;FMTTYPE=text/html:<div style="box-sizing: border-box\; color: rgb(34\, 34\, 34)\; font-family: HelveticaNeue-Light\, &quot\;Helvetica Neue Light&quot\;\, &quot\;Helvetica Neue&quot\;\, Helvetica\, Arial\, &quot\;Lucida Grande&quot\;\, sans-serif\; font-size: 16px\;">\n<p style="box-sizing: border-box\; margin: 1em 0px\; hyphens: none\; line-height: 1.5em\;">August is once again an exciting month at VIR\, as the fan-favorite IMSA WeatherTech SportsCar Championship makes its only mid-Atlantic stop in the premier North American sports car racing series at the track Aug. 17-19. In addition to the headlining Michelin GT Challenge race\, the action-packed weekend will feature several support series including the Biscuitville Grand Prix for the Continental Tire SportsCar Challenge</p>\n</div>\n\n<div style="box-sizing: border-box\; color: rgb(34\, 34\, 34)\; font-family: HelveticaNeue-Light\, &quot\;Helvetica Neue Light&quot\;\, &quot\;Helvetica Neue&quot\;\, Helvetica\, Arial\, &quot\;Lucida Grande&quot\;\, sans-serif\; font-size: 16px\;">\n<p style="box-sizing: border-box\; margin: 1em 0px\; hyphens: none\; line-height: 1.5em\;"><strong style="box-sizing: border-box\;">All current military will be admitted free and veterans will receive a 50% discount to ALL VIR events. Just present a valid Government issued military ID to registration when you arrive. This offer not valid during private track rentals.</strong></p>\n\n<p style="box-sizing: border-box\; margin: 1em 0px\; hyphens: none\; line-height: 1.5em\;"><strong style="box-sizing: border-box\;">Children 16 and under are always free with a paying adult and there is no cost for parking.</strong></p>\n\n<p style="box-sizing: border-box\; margin: 1em 0px\; hyphens: none\; line-height: 1.5em\;"><strong style="box-sizing: border-box\;">While at the track\, catch all the racing action on 89.9 FM</strong></p>\n</div>\n
LOCATION:VIRginia International Raceway 1245 Pine Tree Road Alton\, VA
UID:e.845.7209
SEQUENCE:3
DTSTAMP:20260421T220456Z
URL:https://business.halifaxchamber.net/events/details/michelin-gt-challenge-imsa-weathertech-sportscar-championship-7209
END:VEVENT

END:VCALENDAR
