BEGIN:VCALENDAR
VERSION:2.0
PRODID:-//ChamberMaster//Event Calendar 2.0//EN
METHOD:PUBLISH
X-PUBLISHED-TTL:P3D
REFRESH-INTERVAL:P3D
CALSCALE:GREGORIAN
BEGIN:VEVENT
DTSTART:20200301T020000Z
DTEND:20200301T060000Z
X-MICROSOFT-CDO-ALLDAYEVENT:FALSE
SUMMARY:Mike Warren and Ronnie Riddle and Badeaux
DESCRIPTION:Come enjoy Mike Warren and Ronnie Riddle performing at Badeaux's Seafood and Grill in South Boston.
X-ALT-DESC;FMTTYPE=text/html:<span style="color:rgb(29\, 33\, 41)\; font-family:system-ui\,-apple-system\,system-ui\,.sfnstext-regular\,sans-serif\; font-size:14px">Come enjoy Mike Warren and Ronnie Riddle performing at Badeaux&#39\;s Seafood and Grill in South Boston.</span>
LOCATION:Badeaux Seafood and Grill 2001 Seymour Drive South Boston\, VA 24592
UID:e.845.17454
SEQUENCE:3
DTSTAMP:20260420T132104Z
URL:https://business.halifaxchamber.net/events/details/mike-warren-and-ronnie-riddle-and-badeaux-17454
END:VEVENT

END:VCALENDAR
