BEGIN:VCALENDAR
VERSION:2.0
PRODID:-//ChamberMaster//Event Calendar 2.0//EN
METHOD:PUBLISH
X-PUBLISHED-TTL:P3D
REFRESH-INTERVAL:P3D
CALSCALE:GREGORIAN
BEGIN:VEVENT
DTSTART:20170430T010000Z
DTEND:20170430T035500Z
X-MICROSOFT-CDO-ALLDAYEVENT:FALSE
SUMMARY:Mike Warren & Main Street Band at Main Street Cafe
DESCRIPTION:Mike Warren & Main Street Band at Main Street Cafe
X-ALT-DESC;FMTTYPE=text/html:Mike Warren &amp\; Main Street Band at Main Street Cafe
LOCATION:521 N. Main St. South Boston\, Va
UID:e.845.5890
SEQUENCE:3
DTSTAMP:20260424T114334Z
URL:https://business.halifaxchamber.net/events/details/mike-warren-main-street-band-at-main-street-cafe-5890
END:VEVENT

END:VCALENDAR
