BEGIN:VCALENDAR
VERSION:2.0
PRODID:-//ChamberMaster//Event Calendar 2.0//EN
METHOD:PUBLISH
X-PUBLISHED-TTL:P3D
REFRESH-INTERVAL:P3D
CALSCALE:GREGORIAN
BEGIN:VEVENT
DTSTART:20170910T010000Z
DTEND:20170910T050000Z
X-MICROSOFT-CDO-ALLDAYEVENT:FALSE
SUMMARY:Mike Warren & the Main Street Band at Main Street Cafe
DESCRIPTION:Live band. Rock and country music.
X-ALT-DESC;FMTTYPE=text/html:Live band. Rock and country music.
LOCATION:Main Street Cafe 521 N. Main St. South Boston\, VA
UID:e.845.7087
SEQUENCE:3
DTSTAMP:20260422T154220Z
URL:https://business.halifaxchamber.net/events/details/mike-warren-the-main-street-band-at-main-street-cafe-09-09-2017-7087
END:VEVENT

END:VCALENDAR
