BEGIN:VCALENDAR
VERSION:2.0
PRODID:-//ChamberMaster//Event Calendar 2.0//EN
METHOD:PUBLISH
X-PUBLISHED-TTL:P3D
REFRESH-INTERVAL:P3D
CALSCALE:GREGORIAN
BEGIN:VEVENT
DTSTART:20191214T160000Z
DTEND:20191214T160000Z
X-MICROSOFT-CDO-ALLDAYEVENT:FALSE
SUMMARY:Miracle on 34th Street
DESCRIPTION:Halifax County High School Theatre Presents Miracle on 34th Street.\n\nAll proceeds from the show to benefit Caroline Laughorn.\n\nAll tickets are $5 at the door.\n\n50/50 raffle.
X-ALT-DESC;FMTTYPE=text/html:Halifax County High School Theatre Presents Miracle on 34th Street.<br />\nAll proceeds from the show to benefit Caroline Laughorn.<br />\nAll tickets are $5 at the door.<br />\n50/50 raffle.
LOCATION:Halifax County High School
UID:e.845.15614
SEQUENCE:3
DTSTAMP:20260420T195949Z
URL:https://business.halifaxchamber.net/events/details/miracle-on-34th-street-15614
END:VEVENT

END:VCALENDAR
