BEGIN:VCALENDAR
VERSION:2.0
PRODID:-//ChamberMaster//Event Calendar 2.0//EN
METHOD:PUBLISH
X-PUBLISHED-TTL:P3D
REFRESH-INTERVAL:P3D
CALSCALE:GREGORIAN
BEGIN:VEVENT
DTSTART:20201008T230000Z
DTEND:20201009T003000Z
X-MICROSOFT-CDO-ALLDAYEVENT:FALSE
SUMMARY:Mixology Class
DESCRIPTION:Mixology Class returns to the Berry Hill Resort Thursday\, October 8 at 7 p.m.\, $20 per participant. Don't Forget - reservations are required and can be made by calling 434-517-7006 or online at berryhillresort.com
X-ALT-DESC;FMTTYPE=text/html:<span style="color: rgb(5\, 5\, 5)\; font-family: system-ui\, -apple-system\, system-ui\, &quot\;.SFNSText-Regular&quot\;\, sans-serif\; font-size: 15px\;">Mixology Class returns to the Berry Hill Resort Thursday\, October 8 at 7 p.m.\, $20 per participant. Don&#39\;t Forget - reservations are required and can be made by calling 434-517-7006 or online at&nbsp\;</span><a class="oajrlxb2 g5ia77u1 qu0x051f esr5mh6w e9989ue4 r7d6kgcz rq0escxv nhd2j8a9 nc684nl6 p7hjln8o kvgmc6g5 cxmmr5t8 oygrvhab hcukyx3x jb3vyjys rz4wbd8a qt6c0cv9 a8nywdso i1ao9s8h esuyzwwr f1sip0of lzcic4wl py34i1dx gpro0wi8" href="http://berryhillresort.com/?fbclid=IwAR3NJMJEOhTizebwvW6sj1FX6ynwqCEU13zOMfflaVJdhNhaUJOSUfSTM_g" rel="nofollow noopener" role="link" style="color: var(--blue-link)\; cursor: pointer\; text-decoration-line: none\; outline: none\; list-style: none\; border-width: 0px\; border-style: initial\; border-color: initial\; padding: 0px\; margin: 0px\; touch-action: manipulation\; display: inline\; -webkit-tap-highlight-color: transparent\; box-sizing: border-box\; font-family: system-ui\, -apple-system\, system-ui\, &quot\;.SFNSText-Regular&quot\;\, sans-serif\; font-size: 15px\;" tabindex="0" target="_blank">berryhillresort.com</a>
LOCATION:Berry Hill Resort 3105 River Road South Boston\, VA 24592
UID:e.845.17780
SEQUENCE:3
DTSTAMP:20260420T012317Z
URL:https://business.halifaxchamber.net/events/details/mixology-class-17780
END:VEVENT

END:VCALENDAR
