BEGIN:VCALENDAR
VERSION:2.0
PRODID:-//ChamberMaster//Event Calendar 2.0//EN
METHOD:PUBLISH
X-PUBLISHED-TTL:P3D
REFRESH-INTERVAL:P3D
CALSCALE:GREGORIAN
BEGIN:VEVENT
DTSTART:20191220T000000Z
DTEND:20191220T010000Z
X-MICROSOFT-CDO-ALLDAYEVENT:FALSE
SUMMARY:Mixology Class at the Parlour Bar
DESCRIPTION:Bring your friends and taste buds for a bartender led one-of-a-kind experience. The bartender will walk through 4 cocktails that you can easily make at home. Guests will be able to taste along and interest with the bartender during this event. Bar snacks will be served and recipe cards will be given at the end of class.\n\nMust be 21+\n\n$12 per person\n\nReserve by calling 434.517.7000
X-ALT-DESC;FMTTYPE=text/html:Bring your friends and taste buds for a bartender led one-of-a-kind experience. The bartender will walk through 4 cocktails that you can easily make at home. Guests will be able to taste along and interest with the bartender during this event. Bar snacks will be served and recipe cards will be given at the end of class.<br />\nMust be 21+<br />\n$12 per person<br />\nReserve by calling 434.517.7000
LOCATION:Berry Hill Resort Parlour Bar 3105 River Road South Boston\, VA 24592
UID:e.845.15605
SEQUENCE:3
DTSTAMP:20260420T183142Z
URL:https://business.halifaxchamber.net/events/details/mixology-class-at-the-parlour-bar-15605
END:VEVENT

END:VCALENDAR
