BEGIN:VCALENDAR
VERSION:2.0
PRODID:-//ChamberMaster//Event Calendar 2.0//EN
METHOD:PUBLISH
X-PUBLISHED-TTL:P3D
REFRESH-INTERVAL:P3D
CALSCALE:GREGORIAN
BEGIN:VEVENT
DTSTART:20200214T000000Z
DTEND:20200214T010000Z
X-MICROSOFT-CDO-ALLDAYEVENT:FALSE
SUMMARY:Mixololgy Class
DESCRIPTION:Mixology Classes return to the Parlour Bar every month on 2020!\n\nThis bartender-led class will teach you how to make 4 different cocktails and send you home with recipe cards so that you can easily recreate them at home. Call 434-517-7000 to sign up.
X-ALT-DESC;FMTTYPE=text/html:<span style="color: rgb(29\, 33\, 41)\; font-family: system-ui\, -apple-system\, system-ui\, &quot\;.SFNSText-Regular&quot\;\, sans-serif\; font-size: 14px\; white-space: pre-wrap\;">Mixology Classes return to the Parlour Bar every month on 2020!</span><br style="color: rgb(29\, 33\, 41)\; font-family: system-ui\, -apple-system\, system-ui\, &quot\;.SFNSText-Regular&quot\;\, sans-serif\; font-size: 14px\; white-space: pre-wrap\;" />\n<span style="color: rgb(29\, 33\, 41)\; font-family: system-ui\, -apple-system\, system-ui\, &quot\;.SFNSText-Regular&quot\;\, sans-serif\; font-size: 14px\; white-space: pre-wrap\;">This bartender-led class will teach you how to make 4 different cocktails and send you home with recipe cards so that you can easily recreate them at home. Call 434-517-7000 to sign up.</span>
LOCATION:The Berry Hill Resort and Conference Center 3105 River Rd South Boston\, VA 24592
UID:e.845.17456
SEQUENCE:3
DTSTAMP:20260420T150557Z
URL:https://business.halifaxchamber.net/events/details/mixololgy-class-17456
END:VEVENT

END:VCALENDAR
