BEGIN:VCALENDAR
VERSION:2.0
PRODID:-//ChamberMaster//Event Calendar 2.0//EN
METHOD:PUBLISH
X-PUBLISHED-TTL:P3D
REFRESH-INTERVAL:P3D
CALSCALE:GREGORIAN
BEGIN:VEVENT
DTSTART:20200625T230000Z
DTEND:20200626T000000Z
X-MICROSOFT-CDO-ALLDAYEVENT:FALSE
SUMMARY:Mixololgy Class in the Courtyard
DESCRIPTION:Mixology Classes are back! And will be held in the Courtyard during the month of June!\n\nA few notable changes:\n\n- Reservations are REQUIRED before the event.\n\n- 15 participants limit.\n\n- Must register using online form. ONE FORM PER PARTICIPANT.\n\n- Register for both June classes at once and save!\n\n- Each session is $15 per participant.\n\nRegistration link    https://uptopar.typeform.com/to/CxDW4q\n\nThis bartender-led class will teach you how to make 3 different cocktails and send you home with recipe cards so that you can easily recreate them at home.
X-ALT-DESC;FMTTYPE=text/html:<div class="kvgmc6g5 cxmmr5t8 oygrvhab hcukyx3x c1et5uql" style="overflow-wrap: break-word\; margin: 0px\; font-family: system-ui\, -apple-system\, system-ui\, &quot\;.SFNSText-Regular&quot\;\, sans-serif\; color: rgb(5\, 5\, 5)\; font-size: 15px\;">Mixology Classes are back! And will be held in the Courtyard during the month of June!</div>\n\n<div class="o9v6fnle cxmmr5t8 oygrvhab hcukyx3x c1et5uql" style="overflow-wrap: break-word\; margin: 0.5em 0px 0px\; font-family: system-ui\, -apple-system\, system-ui\, &quot\;.SFNSText-Regular&quot\;\, sans-serif\; color: rgb(5\, 5\, 5)\; font-size: 15px\;">A few notable changes:<br />\n- Reservations are REQUIRED before the event.<br />\n- 15 participants limit.<br />\n- Must register using online form. ONE FORM PER PARTICIPANT.<br />\n- Register for both June classes at once and save!<br />\n- Each session is $15 per participant.</div>\n\n<div class="o9v6fnle cxmmr5t8 oygrvhab hcukyx3x c1et5uql" style="overflow-wrap: break-word\; margin: 0.5em 0px 0px\; font-family: system-ui\, -apple-system\, system-ui\, &quot\;.SFNSText-Regular&quot\;\, sans-serif\; color: rgb(5\, 5\, 5)\; font-size: 15px\;">Registration link &gt\;&gt\;&nbsp\;<a href="https://uptopar.typeform.com/to/CxDW4q">https://uptopar.typeform.com/to/CxDW4q</a></div>\n\n<div class="o9v6fnle cxmmr5t8 oygrvhab hcukyx3x c1et5uql" style="overflow-wrap: break-word\; margin: 0.5em 0px 0px\; font-family: system-ui\, -apple-system\, system-ui\, &quot\;.SFNSText-Regular&quot\;\, sans-serif\; color: rgb(5\, 5\, 5)\; font-size: 15px\;">This bartender-led class will teach you how to make 3 different cocktails and send you home with recipe cards so that you can easily recreate them at home.</div>\n
LOCATION:Berry Hill Resort and Conference Center 3105 River Road South Boston\, VA 24592
UID:e.845.17709
SEQUENCE:3
DTSTAMP:20260420T082401Z
URL:https://business.halifaxchamber.net/events/details/mixololgy-class-in-the-courtyard-17709
END:VEVENT

END:VCALENDAR
