BEGIN:VCALENDAR
VERSION:2.0
PRODID:-//ChamberMaster//Event Calendar 2.0//EN
METHOD:PUBLISH
X-PUBLISHED-TTL:P3D
REFRESH-INTERVAL:P3D
CALSCALE:GREGORIAN
BEGIN:VEVENT
DTSTART:20160225T190000Z
DTEND:20160225T210000Z
X-MICROSOFT-CDO-ALLDAYEVENT:FALSE
SUMMARY:Mobile Marketing 101 Workshop
DESCRIPTION:Join Jay Vics\, Owner of JVI Mobile Marketing\, as he hosts a webinar for small businesses on February 25th at 2pm EST which will serve as a Mobile Marketing 101 Session.\n\n\n\nQuestions answered to include: "What is mobile marketing and why does it matters to all small business owners?"\n\n\n\nTo register for this free webinar\, please click the following link:  http://www.jvimobile.com/mobile-marketing-101-jvi-mobile/
X-ALT-DESC;FMTTYPE=text/html:<span style="font-size: medium\;"><span style="font-family: times new roman\;">Join Jay Vics\, Owner of JVI Mobile Marketing\, as he hosts a webinar for small businesses on February 25th at 2pm EST which will serve as a Mobile Marketing 101 Session.<br />\n<br />\nQuestions answered&nbsp\;to include: &quot\;What is&nbsp\;mobile marketing&nbsp\;and why does it matters to all small business owners?&quot\;<br />\n<br />\nTo register for this free webinar\,&nbsp\;please click the following&nbsp\;link: &nbsp\;</span></span><a href="http://www.jvimobile.com/mobile-marketing-101-jvi-mobile/"><span style="font-size: medium\;"><span style="font-family: times new roman\;"><span style="color: rgb(0\, 0\, 255)\;">http://www.jvimobile.com/mobile-marketing-101-jvi-mobile/</span></span></span></a>
LOCATION:Online Webinar
UID:e.845.4577
SEQUENCE:3
DTSTAMP:20260425T124512Z
URL:https://business.halifaxchamber.net/events/details/mobile-marketing-101-workshop-02-25-2016-4577
END:VEVENT

END:VCALENDAR
