BEGIN:VCALENDAR
VERSION:2.0
PRODID:-//ChamberMaster//Event Calendar 2.0//EN
METHOD:PUBLISH
X-PUBLISHED-TTL:P3D
REFRESH-INTERVAL:P3D
CALSCALE:GREGORIAN
BEGIN:VEVENT
DTSTART:20170911T220000Z
DTEND:20170912T010000Z
X-MICROSOFT-CDO-ALLDAYEVENT:FALSE
SUMMARY:Monday Night Dinner Club
DESCRIPTION:Farm to Table - Table to Soul - Corn and Carnivore\n\n\n\nSecond in a series of Monday Night Dinner Club Series featuring Hunting Creek Wines\, Hudson Heritage Farms Meat Products\, and Springfield Distillery Products
X-ALT-DESC;FMTTYPE=text/html:Farm to Table - Table to Soul - Corn and Carnivore<br />\n<br />\n<span style="color: rgb(75\, 79\, 86)\; font-family: 'San Francisco'\, -apple-system\, system-ui\, '.SFNSText-Regular'\, sans-serif\; font-size: 14px\; font-variant-ligatures: normal\; letter-spacing: -0.24px\; orphans: 2\; widows: 2\;">Second in a series of Monday Night Dinner Club Series featuring Hunting Creek Wines\, Hudson Heritage Farms Meat Products\, and Springfield Distillery Products</span>
LOCATION:Springfield Distillery 9040 River Road Halifax\, VA
UID:e.845.5959
SEQUENCE:3
DTSTAMP:20260422T153849Z
URL:https://business.halifaxchamber.net/events/details/monday-night-dinner-club-5959
END:VEVENT

END:VCALENDAR
