BEGIN:VCALENDAR
VERSION:2.0
PRODID:-//ChamberMaster//Event Calendar 2.0//EN
METHOD:PUBLISH
X-PUBLISHED-TTL:P3D
REFRESH-INTERVAL:P3D
CALSCALE:GREGORIAN
BEGIN:VEVENT
DTSTART:20201031T200000Z
DTEND:20201031T220000Z
X-MICROSOFT-CDO-ALLDAYEVENT:FALSE
SUMMARY:Monster Bowl
DESCRIPTION:Monster bowl includes two hours of bowling under the black lights\, $5 arcade card\, and music by DJ MajorMark.\n\nArcade cards contain bonus cash only. A $5 card will be given to each person bowling on the lane.\n\nCall (434) 572-2695 to reserve your lane or reserve online at https://worldofsports.centeredgeonline.com/areas/area/d508450c-0016-48c8-87ef-6bdc4a53a621?fbclid=IwAR15o5tN5TOCQSkRUCKwg195kJAi6P0qEMnri5wHFNpfI6aGEa6vDFMQyj8 \n\n$12 per person. Shoes not included. 5-6 person max per lane.
X-ALT-DESC;FMTTYPE=text/html:<div>Monster bowl includes two hours of bowling under the black lights\, $5 arcade card\, and music by DJ MajorMark.</div>\n\n<div>Arcade cards contain bonus cash only. A $5 card will be given to each person bowling on the lane.</div>\n\n<div>Call (434) 572-2695 to reserve your lane or reserve online at&nbsp\;https://worldofsports.centeredgeonline.com/areas/area/d508450c-0016-48c8-87ef-6bdc4a53a621?fbclid=IwAR15o5tN5TOCQSkRUCKwg195kJAi6P0qEMnri5wHFNpfI6aGEa6vDFMQyj8&nbsp\;<br />\n$12 per person. Shoes not included. 5-6 person max per lane.</div>\n
LOCATION:World of Sports 2030 Bill Tuck Highway South Boston\, va 24592
UID:e.845.17793
SEQUENCE:3
DTSTAMP:20260420T012403Z
URL:https://business.halifaxchamber.net/events/details/monster-bowl-17793
END:VEVENT

END:VCALENDAR
