BEGIN:VCALENDAR
VERSION:2.0
PRODID:-//ChamberMaster//Event Calendar 2.0//EN
METHOD:PUBLISH
X-PUBLISHED-TTL:P3D
REFRESH-INTERVAL:P3D
CALSCALE:GREGORIAN
BEGIN:VEVENT
DTSTART:20171007T230000Z
DTEND:20171008T030000Z
X-MICROSOFT-CDO-ALLDAYEVENT:FALSE
SUMMARY:Moon River Magic Art Gala
DESCRIPTION:A wide variety of styles and price points of fantastic original artwork from over 60 artists will be for sale on all three levels of The Prizery. \n\n\n\nThe Cone Art Classroom will be the Whimsical Room\, featuring children's items\, garden art and more. Hors d'oeuvres will be passes\; bars will be open (with a new Prizery signature cocktail!)\; The Sessions Band will be playing in the Banquet Hall so you can kick up your heels\, or just enjoy their mix of oldies and as you browse in the Art Gallery Lobby\, soak in the must that Jacob Devol will be playing on the magnificent Steinway grand piano.
X-ALT-DESC;FMTTYPE=text/html:<font color="#4b4f56" face="SF Optimized\, system-ui\, -apple-system\, system-ui\, .SFNSText-Regular\, sans-serif"><span style="font-size: 14px\; letter-spacing: -0.12px\;">A wide variety of styles and price points of fantastic original artwork from over 60 artists will be for sale on all three levels of The Prizery.&nbsp\;</span></font><br />\n<br />\nThe Cone Art Classroom will be the Whimsical Room\, featuring children&#39\;s items\, garden art and more. Hors d&#39\;oeuvres will be passes\; bars will be open (with a new Prizery&nbsp\;signature cocktail!)\; The Sessions Band will be playing in the Banquet Hall so you can kick up your heels\, or just enjoy their mix of oldies and as you browse in the Art Gallery Lobby\, soak in the must that Jacob Devol will be playing on the magnificent Steinway grand piano.&nbsp\;
LOCATION:The Prizery 700 Bruce Street South Boston\, VA
UID:e.845.7070
SEQUENCE:3
DTSTAMP:20260422T135429Z
URL:https://business.halifaxchamber.net/events/details/moon-river-magic-art-gala-7070
END:VEVENT

END:VCALENDAR
