BEGIN:VCALENDAR
VERSION:2.0
PRODID:-//ChamberMaster//Event Calendar 2.0//EN
METHOD:PUBLISH
X-PUBLISHED-TTL:P3D
REFRESH-INTERVAL:P3D
CALSCALE:GREGORIAN
BEGIN:VEVENT
DTSTART:20180726T220000Z
DTEND:20180726T230000Z
X-MICROSOFT-CDO-ALLDAYEVENT:FALSE
SUMMARY:Mosby's Rangers with Eric Buckland at SBHC Museum
DESCRIPTION:On July 26th at 6 PM\, author Eric W. Buckland will give a presentation at the SBHC Museum on "Mosbey's Rangers." "Mosby's Rangers" was a Virginia Calvery unit under the command of Colonel John Singleton Mosby. Mosby was a famed commander that is still today recognized by the United States Army Ranger Hall of Fame. \n\n\n\nBuckland was a guest speaker at the 18th Annual Civil War Seminar - Leadership in the Civil War at Longwood University on February 18\, 2017\, and is a two-time recipient of the United Daughters of the Confederacy's Jefferson Davis Historical Gold Medal.\n\n\n\nBuckland has written several books over the last ten years detailing the history of this ranger unit. His presentation will be drawn from his two latest books: "They Rode with Mosby" and "From Rockbridge to Loudon."\n\n\n\nWe invite all to come and listen to the story of their service during the war\, how the unit matured and how these men moved forward with their lives once the war ended. General admission is free to the public.\n\n\n\nQuestions?\n\nContact us at info@sbhcmuseum.org\n\nor\n\ngive us a call at 434-572-9200.\n\n\n\nWe hope to see you there!
X-ALT-DESC;FMTTYPE=text/html:<span style="background-color:rgb(255\, 255\, 255)\; color:rgb(29\, 33\, 41)\; font-family:helvetica\,arial\,sans-serif\; font-size:14px">On July 26th at 6 PM\, author Eric W. Buckland will give a presentation at the SBHC Museum on &quot\;Mosbey&#39\;s Rangers.&quot\; &quot\;Mosby&#39\;s Rangers&quot\; was a Virginia Calvery unit under the command of Colonel John Singleton Mosby. Mosby was a famed commander that is still today recognized by the United States Army Ranger Hall of Fame.&nbsp\;</span><br />\n<br />\n<span style="background-color:rgb(255\, 255\, 255)\; color:rgb(29\, 33\, 41)\; font-family:helvetica\,arial\,sans-serif\; font-size:14px">Buckland was a guest speaker at the 18th Annual Civil War Seminar - Leadership in the Civil War at Longwood University on February 18\, 2017\, and is a two-time recipient of the United Daughters of the Confederacy&#39\;s Jefferson Davis Historical Gold Medal.</span><br />\n<br />\n<span style="background-color:rgb(255\, 255\, 255)\; color:rgb(29\, 33\, 41)\; font-family:helvetica\,arial\,sans-serif\; font-size:14px">Buckland has written several books over the last ten years detailing the history of this ranger unit. His presentation will be drawn from his two latest books: &quot\;They Rode with Mosby&quot\; and &quot\;From Rockbridge to Loudon.&quot\;</span><br />\n<br />\n<span style="background-color:rgb(255\, 255\, 255)\; color:rgb(29\, 33\, 41)\; font-family:helvetica\,arial\,sans-serif\; font-size:14px">We invite all to come and listen to the story of their service during the war\, how the unit matured and how these men moved forward with their lives once the war ended. General admission is free to the public.</span><br />\n<br />\n<span style="background-color:rgb(255\, 255\, 255)\; color:rgb(29\, 33\, 41)\; font-family:helvetica\,arial\,sans-serif\; font-size:14px">Questions?</span><br />\n<span style="background-color:rgb(255\, 255\, 255)\; color:rgb(29\, 33\, 41)\; font-family:helvetica\,arial\,sans-serif\; font-size:14px">Contact us at info@sbhcmuseum.org</span><br />\n<span style="background-color:rgb(255\, 255\, 255)\; color:rgb(29\, 33\, 41)\; font-family:helvetica\,arial\,sans-serif\; font-size:14px">or</span><br />\n<span style="background-color:rgb(255\, 255\, 255)\; color:rgb(29\, 33\, 41)\; font-family:helvetica\,arial\,sans-serif\; font-size:14px">give us a call at 434-572-9200.</span><br />\n<br />\n<span style="background-color:rgb(255\, 255\, 255)\; color:rgb(29\, 33\, 41)\; font-family:helvetica\,arial\,sans-serif\; font-size:14px">We hope to see you there!</span>
LOCATION:South Boston - Halifax County Museum of Fine Arts and History
UID:e.845.8478
SEQUENCE:3
DTSTAMP:20260421T222445Z
URL:https://business.halifaxchamber.net/events/details/mosby-s-rangers-with-eric-buckland-at-sbhc-museum-8478
END:VEVENT

END:VCALENDAR
