BEGIN:VCALENDAR
VERSION:2.0
PRODID:-//ChamberMaster//Event Calendar 2.0//EN
METHOD:PUBLISH
X-PUBLISHED-TTL:P3D
REFRESH-INTERVAL:P3D
CALSCALE:GREGORIAN
BEGIN:VEVENT
DTSTART:20210509T193000Z
DTEND:20210509T233000Z
X-MICROSOFT-CDO-ALLDAYEVENT:FALSE
SUMMARY:Mother's Day at Molasses
DESCRIPTION:Celebrate Mother's Day at Molasses! Full menu and pick up available\, call for reservations.
X-ALT-DESC;FMTTYPE=text/html:Celebrate Mother&#39\;s Day at Molasses! Full menu and pick up available\, call for reservations.
LOCATION:
UID:e.845.17990
SEQUENCE:3
DTSTAMP:20260419T152312Z
URL:https://business.halifaxchamber.net/events/details/mother-s-day-at-molasses-17990
END:VEVENT

END:VCALENDAR
