BEGIN:VCALENDAR
VERSION:2.0
PRODID:-//ChamberMaster//Event Calendar 2.0//EN
METHOD:PUBLISH
X-PUBLISHED-TTL:P3D
REFRESH-INTERVAL:P3D
CALSCALE:GREGORIAN
BEGIN:VEVENT
DTSTART:20260510T120000Z
DTEND:20260510T170000Z
X-MICROSOFT-CDO-ALLDAYEVENT:FALSE
SUMMARY:Mother's Day at the Market
DESCRIPTION:Come early and join the fun with Short Stacked - Mini Pancakes and browse the farmer and vendor tables.\n\n\n\nGet your fresh baked goods\, canned goods\, meats & eggs\, and more. Kids can make mom a flower pot for free and they get $5 for participating in POP Club.\n\n\n\nEnter for a chance to win a fabulous Mother's Day gift basket!
X-ALT-DESC;FMTTYPE=text/html:<br />\n<span style="font-size:16px\;"><span style="color: rgb(8\, 8\, 9)\; font-family: system-ui\, -apple-system\, &quot\;system-ui&quot\;\, &quot\;.SFNSText-Regular&quot\;\, sans-serif\;">Come early and join the fun with Short Stacked - Mini Pancakes and browse the farmer and vendor tables.</span><br />\n<br class="html-br" style="color: rgb(8\, 8\, 9)\; font-family: system-ui\, -apple-system\, &quot\;system-ui&quot\;\, &quot\;.SFNSText-Regular&quot\;\, sans-serif\; font-size: 15px\;" />\n<span style="color: rgb(8\, 8\, 9)\; font-family: system-ui\, -apple-system\, &quot\;system-ui&quot\;\, &quot\;.SFNSText-Regular&quot\;\, sans-serif\;">Get your fresh baked goods\, canned goods\, meats &amp\; eggs\, and more. Kids can make mom a flower pot for free and they get $5 for participating in POP Club.<br />\n<br />\nEnter for a chance to win a fabulous Mother&#39\;s Day gift basket!</span></span>
LOCATION:Downtown South Boston Farmer's Market
UID:e.845.25168
SEQUENCE:3
DTSTAMP:20260420T180808Z
URL:https://business.halifaxchamber.net/events/details/mother-s-day-at-the-market-25168
END:VEVENT

END:VCALENDAR
