BEGIN:VCALENDAR
VERSION:2.0
PRODID:-//ChamberMaster//Event Calendar 2.0//EN
METHOD:PUBLISH
X-PUBLISHED-TTL:P3D
REFRESH-INTERVAL:P3D
CALSCALE:GREGORIAN
BEGIN:VEVENT
DTSTART:20260510T150000Z
DTEND:20260510T200000Z
X-MICROSOFT-CDO-ALLDAYEVENT:FALSE
SUMMARY:Mother's Day Brunch at the Vineyard
DESCRIPTION:Treat Mom like Royalty this Mother's Day! \n\n\n\nJoin us on May 10th for a special brunch by Off the Chain starting at 11am\, live music by Tobacco Road from 1pm - 4pm\, and make some unforgettable memories with the queen of your heart!  \n\n\n\nAdmission is FREE\, and we've got amazing specials for moms & moms-to-be.\n\nCelebrate Mom with us!
X-ALT-DESC;FMTTYPE=text/html:<br />\n<span style="font-size:18px\;"><strong>&#127801\;Treat Mom like Royalty this Mother&#39\;s Day!&#128144\;</strong></span><br />\n<br />\n<span style="font-size:16px\;">Join us on May 10th for a special brunch by Off the Chain starting at 11am\, live music by Tobacco Road from 1pm - 4pm\, and make some unforgettable memories with the queen of your heart! &#128150\;<br />\n<br />\nAdmission is FREE\, and we&#39\;ve got amazing specials for moms &amp\; moms-to-be.<br />\nCelebrate Mom with us!</span>
LOCATION:Woodbine Vineyards
UID:e.845.25167
SEQUENCE:3
DTSTAMP:20260420T180733Z
URL:https://business.halifaxchamber.net/events/details/mother-s-day-brunch-at-the-vineyard-25167
END:VEVENT

END:VCALENDAR
