BEGIN:VCALENDAR
VERSION:2.0
PRODID:-//ChamberMaster//Event Calendar 2.0//EN
METHOD:PUBLISH
X-PUBLISHED-TTL:P3D
REFRESH-INTERVAL:P3D
CALSCALE:GREGORIAN
BEGIN:VEVENT
DTSTART;VALUE=DATE:20180504
DTEND;VALUE=DATE:20180507
TRANSP:TRANSPARENT
X-MICROSOFT-CDO-ALLDAYEVENT:TRUE
SUMMARY:MotoAmerica Championship of Virginia
DESCRIPTION:Professional motorcycle racing is back on the schedule. VIR is honored to be one of only ten venues across the United States to host a 2017 MotoAmerica Road Racing weekend. The three-day event includes Superbike/Superstock 1000\, Supersport and Superstock 600 races. Now in its third season\, MotoAmerica is revitalizing motorcycle road racing.\n\nAll current military will be admitted free and veterans will receive a 50% discount to ALL VIR events. Children 16 and under are always free with a paying adult and there is no cost for parking.
X-ALT-DESC;FMTTYPE=text/html:<p style="box-sizing: border-box\; margin: 1em 0px\; hyphens: none\; line-height: 1.5em\; color: rgb(0\, 0\, 0)\; font-family: HelveticaNeue-Light\, &quot\;Helvetica Neue Light&quot\;\, &quot\;Helvetica Neue&quot\;\, Helvetica\, Arial\, &quot\;Lucida Grande&quot\;\, sans-serif\; font-size: 16px\;">Professional motorcycle racing is back on the schedule. VIR is honored to be one of only ten venues across the United States to host a 2017&nbsp\;<a href="http://www.motoamerica.com/" style="box-sizing: border-box\; transition: all 0.3s\; color: rgb(0\, 105\, 64)\; -webkit-tap-highlight-color: rgba(0\, 0\, 0\, 0.3)\;" target="_blank">MotoAmerica</a>&nbsp\;Road Racing weekend. The three-day event includes Superbike/Superstock 1000\, Supersport and Superstock 600 races. Now in its third season\, MotoAmerica is revitalizing motorcycle road racing.</p>\n\n<p style="box-sizing: border-box\; margin: 1em 0px\; hyphens: none\; line-height: 1.5em\; color: rgb(0\, 0\, 0)\; font-family: HelveticaNeue-Light\, &quot\;Helvetica Neue Light&quot\;\, &quot\;Helvetica Neue&quot\;\, Helvetica\, Arial\, &quot\;Lucida Grande&quot\;\, sans-serif\; font-size: 16px\;"><strong style="box-sizing: border-box\;">All current military will be admitted free and veterans will receive a 50% discount to ALL VIR events. Children 16 and under are always free with a paying adult and there is no cost for parking.</strong></p>\n
LOCATION:VIRginia International Raceway 1245 Pine Tree Road Alton\, VA
UID:e.845.7204
SEQUENCE:3
DTSTAMP:20260422T015022Z
URL:https://business.halifaxchamber.net/events/details/motoamerica-championship-of-virginia-7204
END:VEVENT

END:VCALENDAR
