BEGIN:VCALENDAR
VERSION:2.0
PRODID:-//ChamberMaster//Event Calendar 2.0//EN
METHOD:PUBLISH
X-PUBLISHED-TTL:P3D
REFRESH-INTERVAL:P3D
CALSCALE:GREGORIAN
BEGIN:VEVENT
DTSTART;VALUE=DATE:20170512
DTEND;VALUE=DATE:20170515
TRANSP:TRANSPARENT
X-MICROSOFT-CDO-ALLDAYEVENT:TRUE
SUMMARY:MotoAmerica Superbike Championship of Virginia
DESCRIPTION:Professional motorcycle racing is back on the schedule. VIR is honored to be one of only ten venues across the United States to host a 2017 MotoAmerica Road Racing weekend. The three-day event includes Superbike/Superstock 1000\, Supersport and Superstock 600 races. Now in its third season\, MotoAmerica is revitalizing motorcycle road racing.
X-ALT-DESC;FMTTYPE=text/html:<span style="color:rgb(0\, 0\, 0)\; font-family:helveticaneue-light\,helvetica neue light\,helvetica neue\,helvetica\,arial\,lucida grande\,sans-serif\; font-size:16px">Professional motorcycle racing is back on the schedule. VIR is honored to be one of only ten venues across the United States to host a 2017&nbsp\;</span><a href="http://www.motoamerica.com/" style="box-sizing: border-box\; -webkit-transition: all 0.3s\; transition: all 0.3s\; color: rgb(0\, 105\, 64)\; font-family: HelveticaNeue-Light\, 'Helvetica Neue Light'\, 'Helvetica Neue'\, Helvetica\, Arial\, 'Lucida Grande'\, sans-serif\; font-size: 16px\;" target="_blank">MotoAmerica</a><span style="color:rgb(0\, 0\, 0)\; font-family:helveticaneue-light\,helvetica neue light\,helvetica neue\,helvetica\,arial\,lucida grande\,sans-serif\; font-size:16px">&nbsp\;Road Racing weekend. The three-day event includes Superbike/Superstock 1000\, Supersport and Superstock 600 races. Now in its third season\, MotoAmerica is revitalizing motorcycle road racing.</span>
LOCATION:VIRginia International Raceway 1245 Pine Tree Road Alton\, VA 24520
UID:e.845.5758
SEQUENCE:3
DTSTAMP:20260422T233340Z
URL:https://business.halifaxchamber.net/events/details/motoamerica-superbike-championship-of-virginia-5758
END:VEVENT

END:VCALENDAR
