BEGIN:VCALENDAR
VERSION:2.0
PRODID:-//ChamberMaster//Event Calendar 2.0//EN
METHOD:PUBLISH
X-PUBLISHED-TTL:P3D
REFRESH-INTERVAL:P3D
CALSCALE:GREGORIAN
BEGIN:VEVENT
DTSTART:20190512T220000Z
DTEND:20190512T230000Z
X-MICROSOFT-CDO-ALLDAYEVENT:FALSE
SUMMARY:Motown Moments
DESCRIPTION:Join us for Motown Moments with Verceal Whitaker and Wilson Williams of The Platters with Special Guest Lionel Best. This performance is open to the general public\, and we can only accommodate the first 100 guests. Please call to RSVP 434-572-8901. The performance will be held outside\, so please bring lawn chairs!
X-ALT-DESC;FMTTYPE=text/html:Join us for Motown Moments with Verceal Whitaker and Wilson Williams of The Platters with Special Guest Lionel Best. This performance is open to the general public\, and we can only accommodate the first 100 guests. Please call to RSVP 434-572-8901. The performance will be held outside\, so please bring lawn chairs!
LOCATION:Berry Hill Health and Rehabilitation Center
UID:e.845.12477
SEQUENCE:3
DTSTAMP:20260421T075920Z
URL:https://business.halifaxchamber.net/events/details/motown-moments-12477
END:VEVENT

END:VCALENDAR
