BEGIN:VCALENDAR
VERSION:2.0
PRODID:-//ChamberMaster//Event Calendar 2.0//EN
METHOD:PUBLISH
X-PUBLISHED-TTL:P3D
REFRESH-INTERVAL:P3D
CALSCALE:GREGORIAN
BEGIN:VEVENT
DTSTART:20190421T003000Z
DTEND:20190421T020000Z
X-MICROSOFT-CDO-ALLDAYEVENT:FALSE
SUMMARY:Movie Under the Stars
DESCRIPTION:Enjoy a movie under the stars. The movie of the night will be selected by park staff who will also be serving popcorn to complete your movie going experience.\n\nProgram is subject to cancellation due to inclement weather so be sure to check with the Visitor Center about the status of the program. \n\nNo event fee required.\n\nParking fee is required unless you are a cabin or campground guest.
X-ALT-DESC;FMTTYPE=text/html:<span style="font-family: Geneva\, Arial\, Helvetica\, sans-serif\; font-size: 14px\; background-color: rgb(255\, 255\, 255)\;">Enjoy a movie under the stars. The movie of the night will be selected by park staff who will also be serving popcorn to complete your movie going experience.</span><br style="font-family: Geneva\, Arial\, Helvetica\, sans-serif\; font-size: 14px\;" />\n<span style="font-family: Geneva\, Arial\, Helvetica\, sans-serif\; font-size: 14px\; background-color: rgb(255\, 255\, 255)\;">Program is subject to cancellation due to inclement weather so be sure to check with the Visitor Center about the status of the program.&nbsp\;</span><br style="font-family: Geneva\, Arial\, Helvetica\, sans-serif\; font-size: 14px\;" />\n<span style="font-family: Geneva\, Arial\, Helvetica\, sans-serif\; font-size: 14px\; background-color: rgb(255\, 255\, 255)\;">No event fee required.</span><br style="font-family: Geneva\, Arial\, Helvetica\, sans-serif\; font-size: 14px\;" />\n<span style="font-family: Geneva\, Arial\, Helvetica\, sans-serif\; font-size: 14px\; background-color: rgb(255\, 255\, 255)\;">Parking fee is required unless you are a cabin or campground guest.</span>
LOCATION:Visitor Center Staunton River State Park
UID:e.845.12396
SEQUENCE:3
DTSTAMP:20260421T080026Z
URL:https://business.halifaxchamber.net/events/details/movie-under-the-stars-12396
END:VEVENT

END:VCALENDAR
