BEGIN:VCALENDAR
VERSION:2.0
PRODID:-//ChamberMaster//Event Calendar 2.0//EN
METHOD:PUBLISH
X-PUBLISHED-TTL:P3D
REFRESH-INTERVAL:P3D
CALSCALE:GREGORIAN
BEGIN:VEVENT
DTSTART:20170723T003000Z
DTEND:20170723T020000Z
X-MICROSOFT-CDO-ALLDAYEVENT:FALSE
SUMMARY:Movie Under The Stars
DESCRIPTION:Movie Under the Stars at Staunton River State Park\n\n\n\nThe outdoor movie experience is something to be treasured whether you are remembering the good ol' drive-in days or if you are new to the outdoor big screen action. Movies are shown at the amphitheater behind the Visitor Center. If the weather is bad\, the movie will be held inside the Visitor Center.\n\n\n\nYou can find out the movie by calling the Visitor Center on Thursday of each week.\n\n\n\nThere are bleachers and benches at the amphitheater by you are welcome to bring your lawn chairs and blankets. Pets are welcome as long as they are well behaved around people\, kids and other pets.\n\n\n\nPopcorn\, drinks and snacks are available for sale in the Visitor Center.
X-ALT-DESC;FMTTYPE=text/html:Movie Under the Stars at Staunton River State Park<br />\n<br />\nThe outdoor movie experience is something to be treasured whether you are remembering the good ol&#39\; drive-in days or if you are new to the outdoor big screen action. Movies are shown at the amphitheater behind the Visitor Center. If the weather is bad\, the movie will be held inside the Visitor Center.<br />\n<br />\nYou can find out the movie by calling the Visitor Center on Thursday of each week.<br />\n<br />\nThere are bleachers and benches at the amphitheater by you are welcome to bring your lawn chairs and blankets. Pets are welcome as long as they are well behaved around people\, kids and other pets.<br />\n<br />\nPopcorn\, drinks and snacks are available for sale in the Visitor Center.<br />\n&nbsp\;
LOCATION:Staunton River State Park 1170 Staunton Trail Scottsburg\, VA 24589
UID:e.845.7024
SEQUENCE:3
DTSTAMP:20260422T194410Z
URL:https://business.halifaxchamber.net/events/details/movie-under-the-stars-7024
END:VEVENT

END:VCALENDAR
