BEGIN:VCALENDAR
VERSION:2.0
PRODID:-//ChamberMaster//Event Calendar 2.0//EN
METHOD:PUBLISH
X-PUBLISHED-TTL:P3D
REFRESH-INTERVAL:P3D
CALSCALE:GREGORIAN
BEGIN:VEVENT
DTSTART:20160820T003000Z
DTEND:20160820T023000Z
X-MICROSOFT-CDO-ALLDAYEVENT:FALSE
SUMMARY:Movies On Main
DESCRIPTION:MOVIES ON MAIN - ZOOTOPIA\n\nPresented by Destination Downtown South Boston\, Emelle Bellamy\, Old Dominion Electric Cooperative and H&M Logging\, Inc.\n\nBring blankets & chairs\n\nFree Water\n\nPopcorn\, candy & sno-cones on sale by Exquisite Events
X-ALT-DESC;FMTTYPE=text/html:<p>MOVIES ON MAIN - ZOOTOPIA<br />\nPresented by Destination Downtown South Boston\, Emelle Bellamy\, Old Dominion Electric Cooperative and H&amp\;M Logging\, Inc.<br />\nBring blankets &amp\; chairs<br />\nFree Water<br />\nPopcorn\, candy &amp\; sno-cones on sale by Exquisite Events<br />\n<br />\n<br />\n&nbsp\;</p>\n
LOCATION:Constitution Square
UID:e.845.5703
SEQUENCE:3
DTSTAMP:20260425T003935Z
URL:https://business.halifaxchamber.net/events/details/movies-on-main-08-19-2016-5703
END:VEVENT

END:VCALENDAR
