BEGIN:VCALENDAR
VERSION:2.0
PRODID:-//ChamberMaster//Event Calendar 2.0//EN
METHOD:PUBLISH
X-PUBLISHED-TTL:P3D
REFRESH-INTERVAL:P3D
CALSCALE:GREGORIAN
BEGIN:VEVENT
DTSTART:20190615T010000Z
DTEND:20190615T030000Z
X-MICROSOFT-CDO-ALLDAYEVENT:FALSE
SUMMARY:Movies On Main
DESCRIPTION:Movies on Main Presents - How To Train Your Dragon: The Hidden World\n\nFREE entry & water.\n\nBring your blankets and chairs for a movie under the stars!\n\nCandy\, Drinks & Popcorn for sale.
X-ALT-DESC;FMTTYPE=text/html:Movies on Main Presents - How To Train Your Dragon: The Hidden World<br />\nFREE entry &amp\; water.<br />\nBring your blankets and chairs for a movie under the stars!<br />\nCandy\, Drinks &amp\; Popcorn for sale.
LOCATION:Constitution Square South Boston
UID:e.845.13160
SEQUENCE:3
DTSTAMP:20260421T044216Z
URL:https://business.halifaxchamber.net/events/details/movies-on-main-13160
END:VEVENT

END:VCALENDAR
