BEGIN:VCALENDAR
VERSION:2.0
PRODID:-//ChamberMaster//Event Calendar 2.0//EN
METHOD:PUBLISH
X-PUBLISHED-TTL:P3D
REFRESH-INTERVAL:P3D
CALSCALE:GREGORIAN
BEGIN:VEVENT
DTSTART:20190817T003000Z
DTEND:20190817T003000Z
X-MICROSOFT-CDO-ALLDAYEVENT:FALSE
SUMMARY:Movies on Main
DESCRIPTION:Join Destination Downtown South Boston for Movies on Main.\n\nDress like your favorite superhero for Avengers: Endgame!\n\nFree Entry & Water\n\nBring your blankets and chairs for a movie under the stars.\n\nCandy\, drinks & popcorn for sale by Exquisite Events.
X-ALT-DESC;FMTTYPE=text/html:Join Destination Downtown South Boston for Movies on Main.<br />\nDress like your favorite superhero for Avengers: Endgame!<br />\nFree Entry &amp\; Water<br />\nBring your blankets and chairs for a movie under the stars.<br />\nCandy\, drinks &amp\; popcorn for sale by Exquisite Events.
LOCATION:Constitution Square 100 North Main St. South Boston\, VA 24592
UID:e.845.13248
SEQUENCE:3
DTSTAMP:20260421T025641Z
URL:https://business.halifaxchamber.net/events/details/movies-on-main-13248
END:VEVENT

END:VCALENDAR
