BEGIN:VCALENDAR
VERSION:2.0
PRODID:-//ChamberMaster//Event Calendar 2.0//EN
METHOD:PUBLISH
X-PUBLISHED-TTL:P3D
REFRESH-INTERVAL:P3D
CALSCALE:GREGORIAN
BEGIN:VEVENT
DTSTART:20170520T010000Z
DTEND:20170520T030000Z
X-MICROSOFT-CDO-ALLDAYEVENT:FALSE
SUMMARY:Movies On Main LA LA Land
DESCRIPTION:Destination Downtown South Boston and Ernelle Bellamy Present\n\nLA LA Land. (PG-13)\n\nBring blankets & chairs. FREE ADMISSION. Free water. Popcorn\, candy & sno-cones on sale by Exquisite Events.
X-ALT-DESC;FMTTYPE=text/html:Destination Downtown South Boston and Ernelle&nbsp\;Bellamy Present<br />\nLA LA Land. (PG-13)<br />\nBring blankets &amp\; chairs. FREE ADMISSION. Free water. Popcorn\, candy &amp\; sno-cones&nbsp\;on sale by Exquisite Events.
LOCATION:Constitution Square Downtown South Boston
UID:e.845.5920
SEQUENCE:3
DTSTAMP:20260422T233031Z
URL:https://business.halifaxchamber.net/events/details/movies-on-main-la-la-land-5920
END:VEVENT

END:VCALENDAR
