BEGIN:VCALENDAR
VERSION:2.0
PRODID:-//ChamberMaster//Event Calendar 2.0//EN
METHOD:PUBLISH
X-PUBLISHED-TTL:P3D
REFRESH-INTERVAL:P3D
CALSCALE:GREGORIAN
BEGIN:VEVENT
DTSTART:20191019T220000Z
DTEND:20191019T220000Z
X-MICROSOFT-CDO-ALLDAYEVENT:FALSE
SUMMARY:Murder at the Pie Auction
DESCRIPTION:Murder at the Pie Auction is a dinner theatre and show for $55 a person. Wine can be purchased prior to the event at $20 a bottle of your choice of Hunting Creek Vineyards wine or a cash bar will be available.\n\nAs the audience you will become part of the pie auction.\n\nLimited seats available.\n\nCall for tickets at 434.572.8339 or come by the box office.
X-ALT-DESC;FMTTYPE=text/html:Murder at the Pie Auction is a dinner theatre and show for $55 a person. Wine can be purchased prior to the event at $20 a bottle of your choice of Hunting Creek Vineyards wine or a cash bar will be available.<br />\nAs the audience you will become part of the pie auction.<br />\nLimited seats available.<br />\nCall for tickets at 434.572.8339 or come by the box office.
LOCATION:The Prizery Theatre 700 Bruce Street South Boston\, VA
UID:e.845.13453
SEQUENCE:3
DTSTAMP:20260420T220640Z
URL:https://business.halifaxchamber.net/events/details/murder-at-the-pie-auction-13453
END:VEVENT

END:VCALENDAR
