BEGIN:VCALENDAR
VERSION:2.0
PRODID:-//ChamberMaster//Event Calendar 2.0//EN
METHOD:PUBLISH
X-PUBLISHED-TTL:P3D
REFRESH-INTERVAL:P3D
CALSCALE:GREGORIAN
BEGIN:VEVENT
DTSTART:20201010T220000Z
DTEND:20201011T010000Z
X-MICROSOFT-CDO-ALLDAYEVENT:FALSE
SUMMARY:Murder Mystery Dinner
DESCRIPTION:As an invited guest to a dinner party hosted by Mr. Drew Beasley you will enjoy a 4-course dinner along with friends\, colleagues\, and of course unavoidable foes\, all making for an unforgettable evening!\n\nRegister online at berryhillresort.com or call 434-517-7033
X-ALT-DESC;FMTTYPE=text/html:<span style="color: rgb(5\, 5\, 5)\; font-family: system-ui\, -apple-system\, system-ui\, &quot\;.SFNSText-Regular&quot\;\, sans-serif\; font-size: 15px\;">As an invited guest to a dinner party hosted by Mr. Drew Beasley you will enjoy a 4-course dinner along with friends\, colleagues\, and of course unavoidable foes\, all making for an unforgettable evening!</span><br style="color: rgb(5\, 5\, 5)\; font-family: system-ui\, -apple-system\, system-ui\, &quot\;.SFNSText-Regular&quot\;\, sans-serif\; font-size: 15px\;" />\n<span style="color: rgb(5\, 5\, 5)\; font-family: system-ui\, -apple-system\, system-ui\, &quot\;.SFNSText-Regular&quot\;\, sans-serif\; font-size: 15px\;">Register online at&nbsp\;</span><a class="oajrlxb2 g5ia77u1 qu0x051f esr5mh6w e9989ue4 r7d6kgcz rq0escxv nhd2j8a9 nc684nl6 p7hjln8o kvgmc6g5 cxmmr5t8 oygrvhab hcukyx3x jb3vyjys rz4wbd8a qt6c0cv9 a8nywdso i1ao9s8h esuyzwwr f1sip0of lzcic4wl py34i1dx gpro0wi8" href="https://l.facebook.com/l.php?u=http%3A%2F%2Fberryhillresort.com%2F%3Ffbclid%3DIwAR1zlxLqAEr62IWgML68DWoVklmrLt6D4aBiIi_GU5WsDswKz2x1Kj-Oiyw&amp\;h=AT3ybDfmOS-OHhFjgIyPAx9_1WPdKHquOLzwx2FyRUpgyAHu_y3RlrbJbD8eYW60D9-gYuwE0pE3FZY7i8yZJHZvSeD1ZfNsGFdWg6tzkR_9xN3xy1P5LOPlMR-M8ZaISWqdyzA" rel="nofollow noopener" role="link" style="color: var(--blue-link)\; cursor: pointer\; text-decoration-line: none\; outline: none\; list-style: none\; border-width: 0px\; border-style: initial\; border-color: initial\; padding: 0px\; margin: 0px\; touch-action: manipulation\; display: inline\; -webkit-tap-highlight-color: transparent\; box-sizing: border-box\; font-family: system-ui\, -apple-system\, system-ui\, &quot\;.SFNSText-Regular&quot\;\, sans-serif\; font-size: 15px\;" tabindex="0" target="_blank">berryhillresort.com</a><span style="color: rgb(5\, 5\, 5)\; font-family: system-ui\, -apple-system\, system-ui\, &quot\;.SFNSText-Regular&quot\;\, sans-serif\; font-size: 15px\;">&nbsp\;or call 434-517-7033</span>
LOCATION:Berry Hill Resort 3105 River Road South Boston\, VA 24592
UID:e.845.17783
SEQUENCE:3
DTSTAMP:20260420T012404Z
URL:https://business.halifaxchamber.net/events/details/murder-mystery-dinner-17783
END:VEVENT

END:VCALENDAR
