BEGIN:VCALENDAR
VERSION:2.0
PRODID:-//ChamberMaster//Event Calendar 2.0//EN
METHOD:PUBLISH
X-PUBLISHED-TTL:P3D
REFRESH-INTERVAL:P3D
CALSCALE:GREGORIAN
BEGIN:VEVENT
DTSTART:20181026T220000Z
DTEND:20181027T010000Z
X-MICROSOFT-CDO-ALLDAYEVENT:FALSE
SUMMARY:Murder Mystery Dinner Theater
DESCRIPTION:Murder Mystery Dinner Theatre - Last Call at Chez Mort! - A night of great food\, drink and theatre. Its another round of Murder Mystery Fun in The Prizery Banquet Hall with Last Call at Chez Mort! Set in a 1940's Jazz Club\, the audience gets to help find out who done it! Sit back\, sip your favorite beverage and enjoy the fun. Everyone is encouraged to come in costume appropriate to a 1940's Jazz Club.
X-ALT-DESC;FMTTYPE=text/html:<span style="caret-color: rgb(51\, 51\, 51)\; color: rgb(51\, 51\, 51)\; font-family: Helvetica\, Arial\, sans-serif\; font-size: 15px\; background-color: rgba(245\, 240\, 236\, 0.498039)\;">Murder Mystery Dinner Theatre - Last Call at Chez Mort! - A night of great food\, drink and theatre. Its another round of Murder Mystery Fun in The Prizery Banquet Hall with Last Call at Chez Mort! Set in a 1940&#39\;s Jazz Club\, the audience gets to help find out who done it! Sit back\, sip your favorite beverage and enjoy the fun. Everyone is encouraged to come in costume appropriate to a 1940&#39\;s Jazz Club.</span>
LOCATION:The Prizery South Boston\, VA
UID:e.845.8520
SEQUENCE:3
DTSTAMP:20260421T171235Z
URL:https://business.halifaxchamber.net/events/details/murder-mystery-dinner-theater-8520
END:VEVENT

END:VCALENDAR
