BEGIN:VCALENDAR
VERSION:2.0
PRODID:-//ChamberMaster//Event Calendar 2.0//EN
METHOD:PUBLISH
X-PUBLISHED-TTL:P3D
REFRESH-INTERVAL:P3D
CALSCALE:GREGORIAN
BEGIN:VEVENT
DTSTART:20170920T230000Z
DTEND:20170921T010000Z
X-MICROSOFT-CDO-ALLDAYEVENT:FALSE
SUMMARY:Music at Saint John's: Romancing Broadway
DESCRIPTION:"Music at Saint John's" new concert series will present the second concert of the 2017-2018 season: "Romancing Broadway" at 7pm on Wednesday\, September 20th\, featuring Ken Vaiden\, tenor\, and Carol Henderson\, pianist.
X-ALT-DESC;FMTTYPE=text/html:&quot\;Music at Saint John&#39\;s&quot\; new concert series will present the second concert of the 2017-2018 season: &quot\;Romancing Broadway&quot\; at 7pm on Wednesday\, September 20th\, featuring Ken Vaiden\, tenor\, and Carol Henderson\, pianist.&nbsp\;
LOCATION:St. John's Episcopal Church 197 Mountain Road\, Halifax
UID:e.845.7084
SEQUENCE:3
DTSTAMP:20260422T155915Z
URL:https://business.halifaxchamber.net/events/details/music-at-saint-john-s-romancing-broadway-7084
END:VEVENT

END:VCALENDAR
