BEGIN:VCALENDAR
VERSION:2.0
PRODID:-//ChamberMaster//Event Calendar 2.0//EN
METHOD:PUBLISH
X-PUBLISHED-TTL:P3D
REFRESH-INTERVAL:P3D
CALSCALE:GREGORIAN
BEGIN:VEVENT
DTSTART:20180908T130000Z
DTEND:20180909T000000Z
X-MICROSOFT-CDO-ALLDAYEVENT:FALSE
SUMMARY:Nana Karen's - Springfield Distillery
DESCRIPTION:Nana Karen's at Springfield Distillery . Come and try our weekly cocktails and enjoy lunch on the patio!
X-ALT-DESC;FMTTYPE=text/html:Nana Karen&#39\;s at Springfield Distillery . Come and try our weekly cocktails and enjoy lunch on the patio!
LOCATION:Springfield Distillery Halifax\, VA
UID:e.845.8500
SEQUENCE:3
DTSTAMP:20260421T190319Z
URL:https://business.halifaxchamber.net/events/details/nana-karen-s-springfield-distillery-8500
END:VEVENT

END:VCALENDAR
