BEGIN:VCALENDAR
VERSION:2.0
PRODID:-//ChamberMaster//Event Calendar 2.0//EN
METHOD:PUBLISH
X-PUBLISHED-TTL:P3D
REFRESH-INTERVAL:P3D
CALSCALE:GREGORIAN
BEGIN:VEVENT
DTSTART:20180323T150000Z
DTEND:20180323T160000Z
X-MICROSOFT-CDO-ALLDAYEVENT:FALSE
SUMMARY:NAPA South Boston Grand Reopening Ribbon Cutting
DESCRIPTION:Join NAPA of South Boston for their grand reopening! The event starts at 7:30am with a tool equipment sale and prizes throughout the week for special customers who spend $100 or more. FREE lunch from 11:00am-2:00pm following the ribbon cutting.
X-ALT-DESC;FMTTYPE=text/html:Join NAPA of South Boston for their grand reopening! The event starts at 7:30am with a tool equipment sale and prizes throughout the week for special customers who spend $100 or more. FREE lunch from 11:00am-2:00pm following the ribbon cutting.
LOCATION:1407 Wilborn Avenue\, South Boston\, VA 24592
UID:e.845.7241
SEQUENCE:3
DTSTAMP:20260422T052634Z
URL:https://business.halifaxchamber.net/events/details/napa-south-boston-grand-reopening-ribbon-cutting-7241
END:VEVENT

END:VCALENDAR
