BEGIN:VCALENDAR
VERSION:2.0
PRODID:-//ChamberMaster//Event Calendar 2.0//EN
METHOD:PUBLISH
X-PUBLISHED-TTL:P3D
REFRESH-INTERVAL:P3D
CALSCALE:GREGORIAN
BEGIN:VEVENT
DTSTART;VALUE=DATE:20180518
DTEND;VALUE=DATE:20180521
TRANSP:TRANSPARENT
X-MICROSOFT-CDO-ALLDAYEVENT:TRUE
SUMMARY:NASA Mid-Atlantic HyperFest Tire Rack Ultimate Track Car Challenge\, presented by Grassroots Motorsports Magazine
DESCRIPTION:Get ready for HyperFest\, "the Automotive Amusement Park"\, presented by Grassroots Motorsports Magazine annual motorsports festival. This year's event is running in conjunction with the Street Driven Tour and the Ultimate Track Car Challenge (UTCC). The event features road racing\, drifting rides and demonstrations\, car show and meet\, HyperDrives (where you can drive your own car on track)\, supercar rides\, rally car rides\, helicopter rides\, kid zone\, live music\, games\, contests\, karting\, camping\, and much more. You don't want to miss HyperFest!
X-ALT-DESC;FMTTYPE=text/html:<span style="color: rgb(0\, 0\, 0)\; font-family: HelveticaNeue-Light\, &quot\;Helvetica Neue Light&quot\;\, &quot\;Helvetica Neue&quot\;\, Helvetica\, Arial\, &quot\;Lucida Grande&quot\;\, sans-serif\; font-size: 16px\;">Get ready for HyperFest\, &ldquo\;the Automotive Amusement Park&rdquo\;\, presented by Grassroots Motorsports Magazine annual motorsports festival. This year&rsquo\;s event is running in conjunction with the Street Driven Tour and the Ultimate Track Car Challenge (UTCC). The event features road racing\, drifting rides and demonstrations\, car show and meet\, HyperDrives (where you can drive your own car on track)\, supercar rides\, rally car rides\, helicopter rides\, kid zone\, live music\, games\, contests\, karting\, camping\, and much more. You don&rsquo\;t want to miss HyperFest!</span>
LOCATION:VIRginia International Raceway 1245 Pine Tree Road Alton VA
UID:e.845.7205
SEQUENCE:3
DTSTAMP:20260422T015144Z
URL:https://business.halifaxchamber.net/events/details/nasa-mid-atlantic-hyperfest-tire-rack-ultimate-track-car-challenge-presented-by-grassroots-motorsports-magazine-7205
END:VEVENT

END:VCALENDAR
