BEGIN:VCALENDAR
VERSION:2.0
PRODID:-//ChamberMaster//Event Calendar 2.0//EN
METHOD:PUBLISH
X-PUBLISHED-TTL:P3D
REFRESH-INTERVAL:P3D
CALSCALE:GREGORIAN
BEGIN:VEVENT
DTSTART:20170629T213000Z
DTEND:20170630T030000Z
X-MICROSOFT-CDO-ALLDAYEVENT:FALSE
SUMMARY:NASCAR Late Model 100
DESCRIPTION:NASCAR Late Model 100 Limited T-25 Pure Stock T-15 Hornets 15
X-ALT-DESC;FMTTYPE=text/html:NASCAR Late Model 100 Limited T-25 Pure Stock T-15 Hornets 15
LOCATION:1188 James D Hagood Hwy South Boston\, VA 24592
UID:e.845.7023
SEQUENCE:3
DTSTAMP:20260424T084101Z
URL:https://business.halifaxchamber.net/events/details/nascar-late-model-100-7023
END:VEVENT

END:VCALENDAR
