BEGIN:VCALENDAR
VERSION:2.0
PRODID:-//ChamberMaster//Event Calendar 2.0//EN
METHOD:PUBLISH
X-PUBLISHED-TTL:P3D
REFRESH-INTERVAL:P3D
CALSCALE:GREGORIAN
BEGIN:VEVENT
DTSTART:20170603T230000Z
DTEND:20170604T020000Z
X-MICROSOFT-CDO-ALLDAYEVENT:FALSE
SUMMARY:NASCAR Late Model 100 / Limited T-25 / Pure Stock T-15 / Hornets 15
DESCRIPTION:NASCAR Late Model 10/Limited T-25/Pure Stock T-15/Hornets 15
X-ALT-DESC;FMTTYPE=text/html:NASCAR Late Model 10/Limited T-25/Pure Stock T-15/Hornets 15
LOCATION:South Boston Speedway 1188 James D Hagood Highway South Boston\, VA 24592
UID:e.845.5807
SEQUENCE:3
DTSTAMP:20260422T212804Z
URL:https://business.halifaxchamber.net/events/details/nascar-late-model-100-limited-t-25-pure-stock-t-15-hornets-15-06-03-2017-5807
END:VEVENT

END:VCALENDAR
