BEGIN:VCALENDAR
VERSION:2.0
PRODID:-//ChamberMaster//Event Calendar 2.0//EN
METHOD:PUBLISH
X-PUBLISHED-TTL:P3D
REFRESH-INTERVAL:P3D
CALSCALE:GREGORIAN
BEGIN:VEVENT
DTSTART:20200328T163000Z
DTEND:20200328T210000Z
X-MICROSOFT-CDO-ALLDAYEVENT:FALSE
SUMMARY:NASCAR Late Model T-100/ Limited 50/ Pure Stock 30/ Hornets 15
DESCRIPTION:GRANDSTANDS OPEN-12:30PM\n\nGREEN FLAG-2PM
X-ALT-DESC;FMTTYPE=text/html:GRANDSTANDS OPEN-12:30PM<br />\nGREEN FLAG-2PM
LOCATION:South Boston Speedway 1188 James D Hagood Hwy South Boston\, VA 24592
UID:e.845.17521
SEQUENCE:3
DTSTAMP:20260420T132642Z
URL:https://business.halifaxchamber.net/events/details/nascar-late-model-t-100-limited-50-pure-stock-30-hornets-15-17521
END:VEVENT

END:VCALENDAR
