BEGIN:VCALENDAR
VERSION:2.0
PRODID:-//ChamberMaster//Event Calendar 2.0//EN
METHOD:PUBLISH
X-PUBLISHED-TTL:P3D
REFRESH-INTERVAL:P3D
CALSCALE:GREGORIAN
BEGIN:VEVENT
DTSTART:20190518T140000Z
DTEND:20190518T150000Z
X-MICROSOFT-CDO-ALLDAYEVENT:FALSE
SUMMARY:National Kids to Parks Day - Native Americans of the Park
DESCRIPTION:Join park staff at Staunton River Battlefield for National Kids to Parks Day. This year\, our theme is Native Americans. Learn about the ancient technique of spear throwing and then try it for yourself. After the program\, tour the Clover Visitor Center to view and touch real Native American artifacts. You can also learn about the archaeological excavation site at the park and more about the Native Americans that once lived here. The Clover Visitor center is open from 10 a.m. to 4 p.m.
X-ALT-DESC;FMTTYPE=text/html:Join park staff at Staunton River Battlefield for National Kids to Parks Day. This year\, our theme is Native Americans. Learn about the ancient technique of spear throwing and then try it for yourself. After the program\, tour the Clover Visitor Center to view and touch real Native American artifacts. You can also learn about the archaeological excavation site at the park and more about the Native Americans that once lived here. The Clover Visitor center is open from 10 a.m. to 4 p.m.
LOCATION:1035 Fort Hill Trail\, Randolph\, VA 23962
UID:e.845.12041
SEQUENCE:3
DTSTAMP:20260421T063106Z
URL:https://business.halifaxchamber.net/events/details/national-kids-to-parks-day-native-americans-of-the-park-12041
END:VEVENT

END:VCALENDAR
