BEGIN:VCALENDAR
VERSION:2.0
PRODID:-//ChamberMaster//Event Calendar 2.0//EN
METHOD:PUBLISH
X-PUBLISHED-TTL:P3D
REFRESH-INTERVAL:P3D
CALSCALE:GREGORIAN
BEGIN:VEVENT
DTSTART:20191026T130000Z
DTEND:20191026T210000Z
X-MICROSOFT-CDO-ALLDAYEVENT:FALSE
SUMMARY:Native American and Early Americana Artifacts Trade Show
DESCRIPTION:Join the South Boston-Halifax County Museum of Fine Arts and History for the Native American and Early Americana Artifacts Trade Show. \n\nAdmission is $5 children 12 and under are free with adult. \n\nFor more information call 572-9200 or visit www.sbhcmuseum.org
X-ALT-DESC;FMTTYPE=text/html:Join the South Boston-Halifax County Museum of Fine Arts and History for the Native American and Early Americana Artifacts Trade Show.&nbsp\;<br />\nAdmission is $5 children 12 and under are free with adult.&nbsp\;<br />\nFor more information call 572-9200 or visit www.sbhcmuseum.org&nbsp\;<br />\n&nbsp\;
LOCATION:
UID:e.845.13278
SEQUENCE:3
DTSTAMP:20260420T234354Z
URL:https://business.halifaxchamber.net/events/details/native-american-and-early-americana-artifacts-trade-show-13278
END:VEVENT

END:VCALENDAR
