BEGIN:VCALENDAR
VERSION:2.0
PRODID:-//ChamberMaster//Event Calendar 2.0//EN
METHOD:PUBLISH
X-PUBLISHED-TTL:P3D
REFRESH-INTERVAL:P3D
CALSCALE:GREGORIAN
BEGIN:VEVENT
DTSTART:20170819T010000Z
DTEND:20170819T035500Z
X-MICROSOFT-CDO-ALLDAYEVENT:FALSE
SUMMARY:New Born Addiction at JB's
DESCRIPTION:New Born Addiction performing live at JB's Burgers\, Apps and Taps.\n\nThis is their last show together.
X-ALT-DESC;FMTTYPE=text/html:New Born Addiction performing live at JB&#39\;s Burgers\, Apps and Taps.<br />\nThis is their last show together.&nbsp\;
LOCATION:World of Sports JB's Burgers\, Apps and Taps 2030 Bill Tuck Highway South Boston\, VA
UID:e.845.7048
SEQUENCE:3
DTSTAMP:20260422T175616Z
URL:https://business.halifaxchamber.net/events/details/new-born-addiction-at-jb-s-7048
END:VEVENT

END:VCALENDAR
