BEGIN:VCALENDAR
VERSION:2.0
PRODID:-//ChamberMaster//Event Calendar 2.0//EN
METHOD:PUBLISH
X-PUBLISHED-TTL:P3D
REFRESH-INTERVAL:P3D
CALSCALE:GREGORIAN
BEGIN:VEVENT
DTSTART:20170928T120000Z
DTEND:20170928T130000Z
X-MICROSOFT-CDO-ALLDAYEVENT:FALSE
SUMMARY:New Member Orientation
DESCRIPTION:Join us for coffee\, donuts and a brief orientation on the numerous benefits and services available through membership in the Halifax County Chamber of Commerce.\n\n \n\n\n	Learn about your opportunities within the Chamber\n	Hear about Chamber committees and events\n	Meet the Chamber Staff and Ambassadors\n	Introduce Your Business
X-ALT-DESC;FMTTYPE=text/html:<div style="color: rgb(97\, 92\, 96)\; font-family: Arial\, Verdana\, Helvetica\, sans-serif\; font-size: 14px\; text-align: center\; white-space: pre-wrap\;"><span style="color: rgb(39\, 37\, 38)\; font-size: 16px\;">Join us for coffee\, donuts and a brief orientation on the numerous benefits and services available through membership in the Halifax County Chamber of Commerce.</span></div>\n\n<div style="color: rgb(97\, 92\, 96)\; font-family: Arial\, Verdana\, Helvetica\, sans-serif\; font-size: 14px\; text-align: center\; white-space: pre-wrap\;">&nbsp\;</div>\n\n<ul style="padding-right: 0px\; padding-left: 0px\; margin: 0px 0px 0px 40px\; color: rgb(97\, 92\, 96)\; font-family: Arial\, Verdana\, Helvetica\, sans-serif\; font-size: 14px\; text-align: center\; white-space: pre-wrap\;">\n	<li style="padding: 0px\; margin: 0px 0px 0px 3em\; line-height: 1.2\; text-align: left\;"><span style="color: rgb(39\, 37\, 38)\; font-size: 16px\;">Learn about your opportunities within the Chamber</span></li>\n	<li style="padding: 0px\; margin: 0px 0px 0px 3em\; line-height: 1.2\; text-align: left\;"><span style="color: rgb(39\, 37\, 38)\; font-size: 16px\;">Hear about Chamber committees and events</span></li>\n	<li style="padding: 0px\; margin: 0px 0px 0px 3em\; line-height: 1.2\; text-align: left\;"><span style="color: rgb(39\, 37\, 38)\; font-size: 16px\;">Meet the Chamber Staff and Ambassadors</span></li>\n	<li style="padding: 0px\; margin: 0px 0px 0px 3em\; line-height: 1.2\; text-align: left\;"><span style="color: rgb(39\, 37\, 38)\; font-size: 16px\;">Introduce Your Business</span></li>\n</ul>\n
LOCATION:Halifax County Chamber of Commerce Frank Slayton Board Room 820 Bruce Street South Boston\, VA
UID:e.845.7092
SEQUENCE:3
DTSTAMP:20260422T153627Z
URL:https://business.halifaxchamber.net/events/details/new-member-orientation-7092
END:VEVENT

END:VCALENDAR
