BEGIN:VCALENDAR
VERSION:2.0
PRODID:-//ChamberMaster//Event Calendar 2.0//EN
METHOD:PUBLISH
X-PUBLISHED-TTL:P3D
REFRESH-INTERVAL:P3D
CALSCALE:GREGORIAN
BEGIN:VEVENT
DTSTART:20191231T233000Z
DTEND:20200101T060000Z
X-MICROSOFT-CDO-ALLDAYEVENT:FALSE
SUMMARY:New Year's Eve - Dinner\, Party\, and Stay
DESCRIPTION:Stay\, Dinner & Party at Berry Hill Resort.\n\n$295++ per couple based on availability\n\nIncludes one night stay\, pre-party dinner at The Mansion\, and NYE Party tickets.\n\n\n\nDinner & Party!\n\n6:30 - 8:30pm\n\n$99 per couple\n\nPrime Rib Buffet (excludes alcohol). Limited seating and reservations are required.\n\n\n\nParty!\n\n9pm - 1am\n\n$60++ couples\n\n$35++ singles\n\nMusic by Chance of Snow\, heavy hors d'oeuvres\, midnight toast\, and cash bar.\n\n\n\nPlease call 434-517-7000 to make your reservation.
X-ALT-DESC;FMTTYPE=text/html:Stay\, Dinner &amp\; Party at Berry Hill Resort.<br />\n<span style="color:rgb(29\, 33\, 41)\; font-family:system-ui\,-apple-system\,system-ui\,.sfnstext-regular\,sans-serif\; font-size:14px">$295++ per couple based on availability</span><br />\n<span style="color:rgb(29\, 33\, 41)\; font-family:system-ui\,-apple-system\,system-ui\,.sfnstext-regular\,sans-serif\; font-size:14px">Includes one night stay\, pre-party dinner at The Mansion\, and NYE Party tickets.</span><br />\n<br />\n<span style="color:rgb(29\, 33\, 41)\; font-family:system-ui\,-apple-system\,system-ui\,.sfnstext-regular\,sans-serif\; font-size:14px">Dinner &amp\; Party!</span><br />\n<span style="color:rgb(29\, 33\, 41)\; font-family:system-ui\,-apple-system\,system-ui\,.sfnstext-regular\,sans-serif\; font-size:14px">6:30 - 8:30pm</span><br />\n<span style="color:rgb(29\, 33\, 41)\; font-family:system-ui\,-apple-system\,system-ui\,.sfnstext-regular\,sans-serif\; font-size:14px">$99 per couple</span><br />\n<span style="color:rgb(29\, 33\, 41)\; font-family:system-ui\,-apple-system\,system-ui\,.sfnstext-regular\,sans-serif\; font-size:14px">Prime Rib Buffet (excludes alcohol). Limited seating and reservations are required.</span><br />\n<br />\n<span style="color:rgb(29\, 33\, 41)\; font-family:system-ui\,-apple-system\,system-ui\,.sfnstext-regular\,sans-serif\; font-size:14px">Party!</span><br />\n<span style="color:rgb(29\, 33\, 41)\; font-family:system-ui\,-apple-system\,system-ui\,.sfnstext-regular\,sans-serif\; font-size:14px">9pm - 1am</span><br />\n<span style="color:rgb(29\, 33\, 41)\; font-family:system-ui\,-apple-system\,system-ui\,.sfnstext-regular\,sans-serif\; font-size:14px">$60++ couples</span><br />\n<span style="color:rgb(29\, 33\, 41)\; font-family:system-ui\,-apple-system\,system-ui\,.sfnstext-regular\,sans-serif\; font-size:14px">$35++ singles</span><br />\n<span style="color:rgb(29\, 33\, 41)\; font-family:system-ui\,-apple-system\,system-ui\,.sfnstext-regular\,sans-serif\; font-size:14px">Music by Chance of Snow\, heavy hors d&#39\;oeuvres\, midnight toast\, and cash bar.</span><br />\n<br />\n<span style="color:rgb(29\, 33\, 41)\; font-family:system-ui\,-apple-system\,system-ui\,.sfnstext-regular\,sans-serif\; font-size:14px">Please call 434-517-7000 to make your reservation.</span>
LOCATION:Berry Hill Resort 3105 River Road South Boston\, VA 24592
UID:e.845.15601
SEQUENCE:3
DTSTAMP:20260420T165602Z
URL:https://business.halifaxchamber.net/events/details/new-year-s-eve-dinner-party-and-stay-15601
END:VEVENT

END:VCALENDAR
