BEGIN:VCALENDAR
VERSION:2.0
PRODID:-//ChamberMaster//Event Calendar 2.0//EN
METHOD:PUBLISH
X-PUBLISHED-TTL:P3D
REFRESH-INTERVAL:P3D
CALSCALE:GREGORIAN
BEGIN:VEVENT
DTSTART:20200101T010000Z
DTEND:20200101T053000Z
X-MICROSOFT-CDO-ALLDAYEVENT:FALSE
SUMMARY:New Year's Eve Party!
DESCRIPTION:Join the Halifax Country Club for a New Year's Eve Party!\n\nGuests must be accompanied by a member.\n\nThis event is free for Country Club members and guests are $40 per couple.\n\nAll members and guests must sign in at entry\, and members will be billed for their guests.\n\nEntertainment provided by 6th N Main\n\nChampagne provided.
X-ALT-DESC;FMTTYPE=text/html:Join the Halifax Country Club for a New Year&#39\;s Eve Party!<br />\nGuests must be accompanied by a member.<br />\nThis event is free for Country Club members and guests are $40 per couple.<br />\nAll members and guests must sign in at entry\, and members will be billed for their guests.<br />\nEntertainment provided by 6th N Main<br />\nChampagne provided.
LOCATION:Halifax Country Club 5136 Halifax Road Halifax\, VA 24558
UID:e.845.15606
SEQUENCE:3
DTSTAMP:20260420T183107Z
URL:https://business.halifaxchamber.net/events/details/new-year-s-eve-party-15606
END:VEVENT

END:VCALENDAR
