BEGIN:VCALENDAR
VERSION:2.0
PRODID:-//ChamberMaster//Event Calendar 2.0//EN
METHOD:PUBLISH
X-PUBLISHED-TTL:P3D
REFRESH-INTERVAL:P3D
CALSCALE:GREGORIAN
BEGIN:VEVENT
DTSTART:20170101T010000Z
DTEND:20170101T050000Z
X-MICROSOFT-CDO-ALLDAYEVENT:FALSE
SUMMARY:New Years Eve Bowling Bash
DESCRIPTION:New Year's Eve Bowling Bash at the World Of Sports\n\n\n\nSuper Moonlight Bowling\n\nAll you can bowl from 8:00PM - 12AM for only $15.00\n\nBowl for over $5000 of prizes!\n\n$1000 Cash Grand Prize\n\n\n\nFor more information or to reserve your lane today call (434) 572-2695 ext 306.
X-ALT-DESC;FMTTYPE=text/html:New Year&#39\;s Eve Bowling Bash at the World Of Sports<br />\n<br />\nSuper Moonlight Bowling<br />\nAll you can bowl from 8:00PM - 12AM for only $15.00<br />\nBowl for over $5000 of prizes!<br />\n$1000 Cash Grand Prize<br />\n<br />\nFor more information or to reserve your lane today call (434) 572-2695 ext 306.
LOCATION:World of Sports 2030 Bill Tuck Highway South Boston\, VA 24592
UID:e.845.5753
SEQUENCE:3
DTSTAMP:20260424T163533Z
URL:https://business.halifaxchamber.net/events/details/new-years-eve-bowling-bash-5753
END:VEVENT

END:VCALENDAR
