BEGIN:VCALENDAR
VERSION:2.0
PRODID:-//ChamberMaster//Event Calendar 2.0//EN
METHOD:PUBLISH
X-PUBLISHED-TTL:P3D
REFRESH-INTERVAL:P3D
CALSCALE:GREGORIAN
BEGIN:VEVENT
DTSTART:20181231T050000Z
DTEND:20181231T050000Z
X-MICROSOFT-CDO-ALLDAYEVENT:FALSE
SUMMARY:New Years Eve Furniture Raffle
DESCRIPTION:Divine Decor & More presents New Year's Eve Furniture Raffle.
X-ALT-DESC;FMTTYPE=text/html:Divine Decor &amp\; More presents New Year&#39\;s Eve Furniture Raffle.
LOCATION:Divine Decor & More 420 Main Street South Boston\, VA
UID:e.845.11432
SEQUENCE:3
DTSTAMP:20260421T140451Z
URL:https://business.halifaxchamber.net/events/details/new-years-eve-furniture-raffle-11432
END:VEVENT

END:VCALENDAR
