BEGIN:VCALENDAR
VERSION:2.0
PRODID:-//ChamberMaster//Event Calendar 2.0//EN
METHOD:PUBLISH
X-PUBLISHED-TTL:P3D
REFRESH-INTERVAL:P3D
CALSCALE:GREGORIAN
BEGIN:VEVENT
DTSTART:20190322T223000Z
DTEND:20190323T000000Z
X-MICROSOFT-CDO-ALLDAYEVENT:FALSE
SUMMARY:Night of Innovation Halifax County Middle School
DESCRIPTION:Please join us for our first Night of Innovation. Students in grades PreK-12 will showcase innovative projects\, technology they use in the classroom\, and the robotics teams will do a demonstration. Also\, some exciting partnerships with Microsoft and GRASP will be announced. We look forward to you joining us on January 22\, 2019 at 6:30 PM at HCMS.
X-ALT-DESC;FMTTYPE=text/html:<span style="caret-color: rgb(29\, 33\, 41)\; color: rgb(29\, 33\, 41)\; font-family: system-ui\, -apple-system\, BlinkMacSystemFont\, &quot\;.SFNSText-Regular&quot\;\, sans-serif\; font-size: 14px\; background-color: rgb(255\, 255\, 255)\;">Please join us for our first Night of Innovation. Students in grades PreK-12 will showcase innovative projects\, technology they use in the classroom\, and the robotics teams will do a demonstration. Also\, some exciting partnerships with Microsoft and GRASP will be announced. We look forward to you joining us on January 22\, 2019 at 6:30 PM at HCMS.</span>
LOCATION:Halifax County Middle School
UID:e.845.11704
SEQUENCE:3
DTSTAMP:20260421T093930Z
URL:https://business.halifaxchamber.net/events/details/night-of-innovation-halifax-county-middle-school-11704
END:VEVENT

END:VCALENDAR
