BEGIN:VCALENDAR
VERSION:2.0
PRODID:-//ChamberMaster//Event Calendar 2.0//EN
METHOD:PUBLISH
X-PUBLISHED-TTL:P3D
REFRESH-INTERVAL:P3D
CALSCALE:GREGORIAN
BEGIN:VEVENT
DTSTART:20170513T140000Z
DTEND:20170513T190000Z
X-MICROSOFT-CDO-ALLDAYEVENT:FALSE
SUMMARY:Noland Day
DESCRIPTION:A family friendly fun filled day in the country featuring live music\, delicious food\, antique farm equipment displays\, vendors and tours of the historic Noland Village homes. Bring your lawn chairs\, sit back and enjoy a beautiful day.
X-ALT-DESC;FMTTYPE=text/html:A family friendly fun filled day in the country featuring live music\, delicious food\, antique farm equipment displays\, vendors and tours of the historic Noland Village homes. Bring your lawn chairs\, sit back and enjoy a beautiful day.
LOCATION:Noland Village\, 5021 Morton's Ferry Road\, Nathalie\, VA
UID:e.845.5893
SEQUENCE:3
DTSTAMP:20260423T005717Z
URL:https://business.halifaxchamber.net/events/details/noland-day-5893
END:VEVENT

END:VCALENDAR
