BEGIN:VCALENDAR
VERSION:2.0
PRODID:-//ChamberMaster//Event Calendar 2.0//EN
METHOD:PUBLISH
X-PUBLISHED-TTL:P3D
REFRESH-INTERVAL:P3D
CALSCALE:GREGORIAN
BEGIN:VEVENT
DTSTART:20190907T150000Z
DTEND:20190908T000000Z
X-MICROSOFT-CDO-ALLDAYEVENT:FALSE
SUMMARY:North Halifax Volunteer Fire Department 42nd Annual Marathon
DESCRIPTION:Serving all day: Stew\, BBQ\, Chicken\, and Hot Dogs\n\nVarious vendors all day\n\nLocal entertainment\n\nChildren's activities\n\nCome out and enjoy great food and fellowship
X-ALT-DESC;FMTTYPE=text/html:Serving all day: Stew\, BBQ\, Chicken\, and Hot Dogs<br />\nVarious vendors all day<br />\nLocal entertainment<br />\nChildren&#39\;s activities<br />\nCome out and enjoy great food and fellowship
LOCATION:4201 Leda-Grove Road Nathalie\, VA 24577
UID:e.845.13286
SEQUENCE:3
DTSTAMP:20260420T234533Z
URL:https://business.halifaxchamber.net/events/details/north-halifax-volunteer-fire-department-42nd-annual-marathon-13286
END:VEVENT

END:VCALENDAR
