BEGIN:VCALENDAR
VERSION:2.0
PRODID:-//ChamberMaster//Event Calendar 2.0//EN
METHOD:PUBLISH
X-PUBLISHED-TTL:P3D
REFRESH-INTERVAL:P3D
CALSCALE:GREGORIAN
BEGIN:VEVENT
DTSTART:20201213T210000Z
DTEND:20201213T210000Z
X-MICROSOFT-CDO-ALLDAYEVENT:FALSE
SUMMARY:North Halifax Volunteer Fire Department Community Christmas Parade
DESCRIPTION:North Halifax Volunteer Fire Department will be having a Community Christmas parade\, Dec 13 starting at 4. It is truly a community parade because we are bringing the parade to your house!\n\nWe are going to start at the Fire Dept\, head to the Grove\, turn on Tobacco Road\, Golden Leaf Road\, head to Mulberry Road\, Felix Road\, Pumping Hill Road\, Leda Grove Road back to the Fire Dept.\n\nLet them know if you are interested in participating.
X-ALT-DESC;FMTTYPE=text/html:<div class="kvgmc6g5 cxmmr5t8 oygrvhab hcukyx3x c1et5uql" style="overflow-wrap: break-word\; margin: 0px\; font-family: system-ui\, -apple-system\, system-ui\, &quot\;.SFNSText-Regular&quot\;\, sans-serif\; color: rgb(5\, 5\, 5)\; font-size: 15px\;">North Halifax Volunteer Fire Department will be having&nbsp\;a Community Christmas parade\, Dec 13 starting at 4. It is truly a community parade because we are bringing the parade to your house!</div>\n\n<div class="o9v6fnle cxmmr5t8 oygrvhab hcukyx3x c1et5uql" style="overflow-wrap: break-word\; margin: 0.5em 0px 0px\; font-family: system-ui\, -apple-system\, system-ui\, &quot\;.SFNSText-Regular&quot\;\, sans-serif\; color: rgb(5\, 5\, 5)\; font-size: 15px\;">We are going to start at the Fire Dept\, head to the Grove\, turn on Tobacco Road\, Golden Leaf Road\, head to Mulberry Road\, Felix Road\, Pumping Hill Road\, Leda Grove Road back to the Fire Dept.</div>\n\n<div class="o9v6fnle cxmmr5t8 oygrvhab hcukyx3x c1et5uql" style="overflow-wrap: break-word\; margin: 0.5em 0px 0px\; font-family: system-ui\, -apple-system\, system-ui\, &quot\;.SFNSText-Regular&quot\;\, sans-serif\; color: rgb(5\, 5\, 5)\; font-size: 15px\;">Let them know if you are interested in participating.</div>\n
LOCATION:
UID:e.845.17813
SEQUENCE:3
DTSTAMP:20260419T221928Z
URL:https://business.halifaxchamber.net/events/details/north-halifax-volunteer-fire-department-community-christmas-parade-17813
END:VEVENT

END:VCALENDAR
